BEGIN:VCALENDAR
VERSION:2.0
PRODID:-//dhtmlXScheduler//NONSGML v2.2//EN
X-WR-CALNAME:Wydarzenia
BEGIN:VEVENT
DTSTART:20241126T183000
DTEND:20241126T194500
UID:1
SUMMARY:PALM w futsalu mecz UWB - PB
END:VEVENT
END:VCALENDAR