BEGIN:VCALENDAR
VERSION:2.0
PRODID:-//dhtmlXScheduler//NONSGML v2.2//EN
X-WR-CALNAME:Wydarzenia
BEGIN:VEVENT
DTSTART:20241108T000000
DTEND:20241111T000000
UID:0
SUMMARY:Turniej Zwierzyniec Cup w ramach rozgrywek Tenis Open Polska PZT
END:VEVENT
BEGIN:VEVENT
DTSTART:20241119T183000
DTEND:20241119T200000
UID:1
SUMMARY:PALM w futsalu mecz UWB - WANS
END:VEVENT
BEGIN:VEVENT
DTSTART:20241126T183000
DTEND:20241126T194500
UID:2
SUMMARY:PALM w futsalu mecz UWB - PB
END:VEVENT
END:VCALENDAR