BEGIN:VCALENDAR
VERSION:2.0
PRODID:-//dhtmlXScheduler//NONSGML v2.2//EN
X-WR-CALNAME:Wydarzenia
BEGIN:VEVENT
DTSTART:20241009T173000
DTEND:20241009T190000
UID:0
SUMMARY:Akademicki Związek Sportowy Uniwersytetu w Białymstoku zaprasza na treningi sekcji szachowej
END:VEVENT
BEGIN:VEVENT
DTSTART:20241015T150000
DTEND:20241016T150000
UID:1
SUMMARY:Doba Sportu - 24-godzinny maraton sportowy
END:VEVENT
END:VCALENDAR